BEGIN:VCALENDAR
VERSION:2.0
PRODID:-//Contratero//ES
CALSCALE:GREGORIAN
METHOD:PUBLISH
BEGIN:VEVENT
UID:SE 3-2024@contratero.es
DTSTAMP:20260423T135725Z
DTSTART:20241009T235959
DTEND:20241010T005959
SUMMARY:Cierre: Consultoría y auditoría sobre el cumplimiento de l
DESCRIPTION:Consultoría y auditoría sobre el cumplimiento de la normativa en materia de protección de datos.\\n\\nOrganismo: Junta de Gobierno Local del Ayuntamiento de Méntrida\\n\\nVer en Contratero: https://contratero.es/contracts/SE 3-2024
URL:https://contratero.es/contracts/SE 3-2024
STATUS:CONFIRMED
BEGIN:VALARM
TRIGGER:-P1D
ACTION:DISPLAY
DESCRIPTION:Recordatorio: Consultoría y auditoría sobre 
END:VALARM
END:VEVENT
END:VCALENDAR